BEGIN:VCALENDAR
VERSION:2.0
PRODID:-//wp-events-plugin.com//7.2.2.1//EN
TZID:Europe/Vienna
X-WR-TIMEZONE:Europe/Vienna
BEGIN:VEVENT
UID:28@skiverein.at
DTSTART;TZID=Europe/Vienna:20221020T160000
DTEND;TZID=Europe/Vienna:20221222T180000
DTSTAMP:20221014T124230Z
URL:https://www.skiverein.at/wp/events/kinderturnen-2022/
SUMMARY:Kinderturnen 2022
DESCRIPTION:Bewegung\, die Spaß macht!\nBereits in jungen Jahren soll der 
 Grundstein für einen aktiven Lebensstil gesetzt werden. Turnen an und mit
  Geräten\, Gymnastik und Spiele sind ebenso vertreten\, wie die Bewegung 
 nach Musik\, Rhythmusschulung\, Tanzen und Singen. Mit diesen abwechslungs
 reichen Inhalten wird eine umfassende körperliche Grundausbildung gewähr
 leistet.\nWir machen uns fit für die kommende Wintersaison!\n\nTermin: ab
  20. Oktober 2022\nKinder 4 - 6 Jahre / Donnerstags 16.00 – 17.00 Uhr\nK
 inder 7 - 10 Jahre / Donnerstags 17.00 – 18.00 Uhr\n\nVeranstaltungsort:
 \nTurnsaal der Volksschule Sierninghofen-Neuzeug\n\nKontakt: Monika Brambe
 rger 0660 / 2121009\nKosten für 10 Einheiten: Mitglieder € 10\,–\nNic
 htmitglieder € 35\,– (inklusive ÖSV-Card)\n\nTrainerin: Anna Sinkovit
 s\n\nANMELDUNG ERFORDERLICH!
CATEGORIES:Schneesportkurse
END:VEVENT
BEGIN:VTIMEZONE
TZID:Europe/Vienna
X-LIC-LOCATION:Europe/Vienna
BEGIN:DAYLIGHT
DTSTART:20220327T030000
TZOFFSETFROM:+0100
TZOFFSETTO:+0200
TZNAME:CEST
END:DAYLIGHT
BEGIN:STANDARD
DTSTART:20221030T020000
TZOFFSETFROM:+0200
TZOFFSETTO:+0100
TZNAME:CET
END:STANDARD
END:VTIMEZONE
END:VCALENDAR