BEGIN:VCALENDAR
VERSION:2.0
PRODID:-//wp-events-plugin.com//7.2.2.1//EN
TZID:Europe/Vienna
X-WR-TIMEZONE:Europe/Vienna
BEGIN:VEVENT
UID:25@skiverein.at
DTSTART;TZID=Europe/Vienna:20211006T183000
DTEND;TZID=Europe/Vienna:20211215T194500
DTSTAMP:20211007T092801Z
URL:https://www.skiverein.at/wp/events/bauch-beine-po/
SUMMARY:Bauch - Beine - Po
DESCRIPTION:Bauch - Beine - Po\n\nJeden Mittwoch von 18:30 Uhr bis 19:45 Uh
 r in der Turnhalle der Volksschule Sierninghofen-Neuzeug\n\nAnmeldung: am 
 ersten Turnabend oder bei Helga Steiner 0699/19006312\n\nKosten: für 10 T
 urnstunden für Mitglieder 15€ / Nichtmitglieder 35€\n\nFür Nichtmitg
 lieder besteht kein Versicherungsschutz und wird keine Haftung übernommen
 .\n\nWir brauchen: Turnschuhe für die Halle\, Turnmatte und kleine Hantel
 n
END:VEVENT
BEGIN:VTIMEZONE
TZID:Europe/Vienna
X-LIC-LOCATION:Europe/Vienna
BEGIN:DAYLIGHT
DTSTART:20210328T030000
TZOFFSETFROM:+0100
TZOFFSETTO:+0200
TZNAME:CEST
END:DAYLIGHT
BEGIN:STANDARD
DTSTART:20211031T020000
TZOFFSETFROM:+0200
TZOFFSETTO:+0100
TZNAME:CET
END:STANDARD
END:VTIMEZONE
END:VCALENDAR