BEGIN:VCALENDAR
VERSION:2.0
PRODID:-//wp-events-plugin.com//7.2.2.1//EN
TZID:Europe/Vienna
X-WR-TIMEZONE:Europe/Vienna
BEGIN:VEVENT
UID:55@skiverein.at
DTSTART;TZID=Europe/Vienna;VALUE=DATE:20240217
DTEND;TZID=Europe/Vienna;VALUE=DATE:20240219
DTSTAMP:20240208T070106Z
URL:https://www.skiverein.at/wp/events/2024-semsterkurs/
SUMMARY:Semester Schneesportkurs
DESCRIPTION:Zweitägiger Schneesportkurs in Hinterstoder.\n\nInfoblatt Seme
 sterschneeportkurs\nWelche Leistungen sind inkludiert?\n\n 	2x Bustransfer
 \n 	2x Mittagessen &amp\; Getränke\n 	2x Schikurs inkl. Liftkarte\n 	Betr
 euung durch Instruktoren\, Übungsleiter und geschulte Betreuer\n\n\nAbfah
 rt\n7:30 Freibadparkplatz Sierning\n&nbsp\;Ankunft\nca. 16:45 Freibadparkp
 latz Sierning\nWichtig\nDie Teilnehmer des Kinderschikurses müssen Verein
 smitglied sein!\n\nFalls Ihr Kind kein Vereinsmitglied ist\, melden Sie es
  bitte zuerst auf unserer Homepage im Bereich "Mitglied werden" an.\n\nWen
 n Sie Ihr(e) Kind(er) erfolgreich als Mitglied angemeldet haben bzw. diese
  schon Mitglied sind\, sind folgende Schritte zur Anmeldung für den Weihn
 achtsschneesportkurs erforderlich:\n\n 	Formular weiter unten für die anz
 umeldende(n) Person(en) ausfüllen und absenden\n 	Sie erhalten eine Email
  zur Bestätigung\n 	Ihre eingegebenen Daten werden bei uns registriert\n 
 	Jeweiligen Betrag auf folgenden IBAN überweisen - erst dann gilt die Anm
 eldung alt komplett und wir können Ihre Anmeldung vervollständigen\n 	Zu
 r Bestätigung Ihrer komplettierten Anmeldung erhalten Sie erneut eine Ema
 il\n\nIBAN: AT97 3456 0802 0227 6996\nDer Schiverein Neuzeug haftet nicht 
 für Verletzungen\, Unfälle oder Schäden und gegenüber dritten Personen
 .\n\nIm Sinne der Sicherheit\, sind die Sicherheitsbindungen kontrollieren
  und einstellen zu lassen!\nAchten Sie bitte auf entsprechend warme Schibe
 kleidung\, Helm &amp\; Schibrille\, Handschuhe\, KEINE Schals!\nSchiausrü
 stung bitte mit Namen versehen\n\n!!! Helmpflicht !!!\n\nAnmeldung möglic
 h ab 14. Jänner 9:00
CATEGORIES:Schneesportkurse
LOCATION:Hinterstoder Höss\, Hinterstoder 21\, Hinterstoder\, 4573\, Öste
 rreich
X-APPLE-STRUCTURED-LOCATION;VALUE=URI;X-ADDRESS=Hinterstoder 21\, Hintersto
 der\, 4573\, Österreich;X-APPLE-RADIUS=100;X-TITLE=Hinterstoder Höss:geo
 :0,0
END:VEVENT
BEGIN:VTIMEZONE
TZID:Europe/Vienna
X-LIC-LOCATION:Europe/Vienna
BEGIN:STANDARD
DTSTART:20231029T020000
TZOFFSETFROM:+0200
TZOFFSETTO:+0100
TZNAME:CET
END:STANDARD
END:VTIMEZONE
END:VCALENDAR